BEGIN:VCALENDAR
VERSION:2.0
PRODID:-//Experience Centre - ECPv6.10.0//NONSGML v1.0//EN
CALSCALE:GREGORIAN
METHOD:PUBLISH
X-ORIGINAL-URL:https://crossriverrailexperiencecentre.qld.gov.au
X-WR-CALDESC:Events for Experience Centre
REFRESH-INTERVAL;VALUE=DURATION:PT1H
X-Robots-Tag:noindex
X-PUBLISHED-TTL:PT1H
BEGIN:VTIMEZONE
TZID:Australia/Brisbane
BEGIN:STANDARD
TZOFFSETFROM:+1000
TZOFFSETTO:+1000
TZNAME:AEST
DTSTART:20240101T000000
END:STANDARD
END:VTIMEZONE
BEGIN:VEVENT
DTSTART;TZID=Australia/Brisbane:20241216T110000
DTEND;TZID=Australia/Brisbane:20241216T130000
DTSTAMP:20260424T012531
CREATED:20241114T224638Z
LAST-MODIFIED:20241114T224638Z
UID:10000712-1734346800-1734354000@crossriverrailexperiencecentre.qld.gov.au
SUMMARY:Crafty Christmas Creations
DESCRIPTION:With a sleigh load of craft supplies at your fingertips\, unleash your creativity to design a dazzling ornament\, a festive garland or a pinecone elf.  \nRecommended for ages 5+\, caregiver participation encouraged. \n\nMonday 16 December\, 11 am to 1 pm\nWednesday 18 December\, 11am to 1pm\nFriday 20 December\, 11am to 1pm\nSunday 22 December\, 11am to 1pm
URL:https://crossriverrailexperiencecentre.qld.gov.au/event/crafty-christmas-creations/2024-12-16/
LOCATION:Experience Centre\, 1/151 Elizabeth Street\, Brisbane\, Queensland\, 4000\, Australia
CATEGORIES:School Holidays,Weekend Programs
ATTACH;FMTTYPE=image/jpeg:https://crossriverrailexperiencecentre.qld.gov.au/wp-content/uploads/2024/11/241028_ExpC_School_Holiday_Graphics_Isometric_600x400_v13_Christmas_craft.jpg
GEO:-27.470079673728;153.02656643906
X-APPLE-STRUCTURED-LOCATION;VALUE=URI;X-ADDRESS=Experience Centre 1/151 Elizabeth Street Brisbane Queensland 4000 Australia;X-APPLE-RADIUS=500;X-TITLE=1/151 Elizabeth Street:geo:153.02656643906,-27.470079673728
END:VEVENT
BEGIN:VEVENT
DTSTART;TZID=Australia/Brisbane:20241217T110000
DTEND;TZID=Australia/Brisbane:20241217T120000
DTSTAMP:20260424T012531
CREATED:20241114T225252Z
LAST-MODIFIED:20241114T225252Z
UID:10000716-1734433200-1734436800@crossriverrailexperiencecentre.qld.gov.au
SUMMARY:Christmas with Ozobots
DESCRIPTION:Our mini robots are feeling festive and have devised some Christmas challenges. Learn how to use simple coding to get the Ozobot to light up the house with Christmas lights or to make sure Santa feeds the reindeer. \nRecommended for ages 5+\, caregiver participation encouraged. \nDepending on attendance\, children may be required to share an Ozobot and iPad with another child. \nYou can book your spot by using one of the links below. \n\nTuesday 17 December\, 11am to 12pm\nTuesday 17 December\, 1pm to 2pm\nThursday 19 December\, 11am to 12pm\nThursday 19 December\, 11am to 12pm
URL:https://crossriverrailexperiencecentre.qld.gov.au/event/christmas-with-ozobots/2024-12-17/1/
LOCATION:Experience Centre\, 1/151 Elizabeth Street\, Brisbane\, Queensland\, 4000\, Australia
ATTACH;FMTTYPE=image/jpeg:https://crossriverrailexperiencecentre.qld.gov.au/wp-content/uploads/2024/11/241028_ExpC_School_Holiday_Graphics_Isometric_600x400_v1.jpg
GEO:-27.470079673728;153.02656643906
X-APPLE-STRUCTURED-LOCATION;VALUE=URI;X-ADDRESS=Experience Centre 1/151 Elizabeth Street Brisbane Queensland 4000 Australia;X-APPLE-RADIUS=500;X-TITLE=1/151 Elizabeth Street:geo:153.02656643906,-27.470079673728
END:VEVENT
BEGIN:VEVENT
DTSTART;TZID=Australia/Brisbane:20241217T130000
DTEND;TZID=Australia/Brisbane:20241217T140000
DTSTAMP:20260424T012531
CREATED:20241114T225252Z
LAST-MODIFIED:20241114T225252Z
UID:10000717-1734440400-1734444000@crossriverrailexperiencecentre.qld.gov.au
SUMMARY:Christmas with Ozobots
DESCRIPTION:Our mini robots are feeling festive and have devised some Christmas challenges. Learn how to use simple coding to get the Ozobot to light up the house with Christmas lights or to make sure Santa feeds the reindeer. \nRecommended for ages 5+\, caregiver participation encouraged. \nDepending on attendance\, children may be required to share an Ozobot and iPad with another child. \nYou can book your spot by using one of the links below. \n\nTuesday 17 December\, 11am to 12pm\nTuesday 17 December\, 1pm to 2pm\nThursday 19 December\, 11am to 12pm\nThursday 19 December\, 11am to 12pm
URL:https://crossriverrailexperiencecentre.qld.gov.au/event/christmas-with-ozobots/2024-12-17/2/
LOCATION:Experience Centre\, 1/151 Elizabeth Street\, Brisbane\, Queensland\, 4000\, Australia
ATTACH;FMTTYPE=image/jpeg:https://crossriverrailexperiencecentre.qld.gov.au/wp-content/uploads/2024/11/241028_ExpC_School_Holiday_Graphics_Isometric_600x400_v1.jpg
GEO:-27.470079673728;153.02656643906
X-APPLE-STRUCTURED-LOCATION;VALUE=URI;X-ADDRESS=Experience Centre 1/151 Elizabeth Street Brisbane Queensland 4000 Australia;X-APPLE-RADIUS=500;X-TITLE=1/151 Elizabeth Street:geo:153.02656643906,-27.470079673728
END:VEVENT
BEGIN:VEVENT
DTSTART;TZID=Australia/Brisbane:20241218T110000
DTEND;TZID=Australia/Brisbane:20241218T130000
DTSTAMP:20260424T012531
CREATED:20241114T224638Z
LAST-MODIFIED:20241114T224638Z
UID:10000713-1734519600-1734526800@crossriverrailexperiencecentre.qld.gov.au
SUMMARY:Crafty Christmas Creations
DESCRIPTION:With a sleigh load of craft supplies at your fingertips\, unleash your creativity to design a dazzling ornament\, a festive garland or a pinecone elf.  \nRecommended for ages 5+\, caregiver participation encouraged. \n\nMonday 16 December\, 11 am to 1 pm\nWednesday 18 December\, 11am to 1pm\nFriday 20 December\, 11am to 1pm\nSunday 22 December\, 11am to 1pm
URL:https://crossriverrailexperiencecentre.qld.gov.au/event/crafty-christmas-creations/2024-12-18/
LOCATION:Experience Centre\, 1/151 Elizabeth Street\, Brisbane\, Queensland\, 4000\, Australia
CATEGORIES:School Holidays,Weekend Programs
ATTACH;FMTTYPE=image/jpeg:https://crossriverrailexperiencecentre.qld.gov.au/wp-content/uploads/2024/11/241028_ExpC_School_Holiday_Graphics_Isometric_600x400_v13_Christmas_craft.jpg
GEO:-27.470079673728;153.02656643906
X-APPLE-STRUCTURED-LOCATION;VALUE=URI;X-ADDRESS=Experience Centre 1/151 Elizabeth Street Brisbane Queensland 4000 Australia;X-APPLE-RADIUS=500;X-TITLE=1/151 Elizabeth Street:geo:153.02656643906,-27.470079673728
END:VEVENT
BEGIN:VEVENT
DTSTART;TZID=Australia/Brisbane:20241219T110000
DTEND;TZID=Australia/Brisbane:20241219T120000
DTSTAMP:20260424T012531
CREATED:20241114T225252Z
LAST-MODIFIED:20241114T225252Z
UID:10000718-1734606000-1734609600@crossriverrailexperiencecentre.qld.gov.au
SUMMARY:Christmas with Ozobots
DESCRIPTION:Our mini robots are feeling festive and have devised some Christmas challenges. Learn how to use simple coding to get the Ozobot to light up the house with Christmas lights or to make sure Santa feeds the reindeer. \nRecommended for ages 5+\, caregiver participation encouraged. \nDepending on attendance\, children may be required to share an Ozobot and iPad with another child. \nYou can book your spot by using one of the links below. \n\nTuesday 17 December\, 11am to 12pm\nTuesday 17 December\, 1pm to 2pm\nThursday 19 December\, 11am to 12pm\nThursday 19 December\, 11am to 12pm
URL:https://crossriverrailexperiencecentre.qld.gov.au/event/christmas-with-ozobots/2024-12-19/1/
LOCATION:Experience Centre\, 1/151 Elizabeth Street\, Brisbane\, Queensland\, 4000\, Australia
ATTACH;FMTTYPE=image/jpeg:https://crossriverrailexperiencecentre.qld.gov.au/wp-content/uploads/2024/11/241028_ExpC_School_Holiday_Graphics_Isometric_600x400_v1.jpg
GEO:-27.470079673728;153.02656643906
X-APPLE-STRUCTURED-LOCATION;VALUE=URI;X-ADDRESS=Experience Centre 1/151 Elizabeth Street Brisbane Queensland 4000 Australia;X-APPLE-RADIUS=500;X-TITLE=1/151 Elizabeth Street:geo:153.02656643906,-27.470079673728
END:VEVENT
BEGIN:VEVENT
DTSTART;TZID=Australia/Brisbane:20241219T130000
DTEND;TZID=Australia/Brisbane:20241219T140000
DTSTAMP:20260424T012531
CREATED:20241114T225252Z
LAST-MODIFIED:20241114T225252Z
UID:10000719-1734613200-1734616800@crossriverrailexperiencecentre.qld.gov.au
SUMMARY:Christmas with Ozobots
DESCRIPTION:Our mini robots are feeling festive and have devised some Christmas challenges. Learn how to use simple coding to get the Ozobot to light up the house with Christmas lights or to make sure Santa feeds the reindeer. \nRecommended for ages 5+\, caregiver participation encouraged. \nDepending on attendance\, children may be required to share an Ozobot and iPad with another child. \nYou can book your spot by using one of the links below. \n\nTuesday 17 December\, 11am to 12pm\nTuesday 17 December\, 1pm to 2pm\nThursday 19 December\, 11am to 12pm\nThursday 19 December\, 11am to 12pm
URL:https://crossriverrailexperiencecentre.qld.gov.au/event/christmas-with-ozobots/2024-12-19/2/
LOCATION:Experience Centre\, 1/151 Elizabeth Street\, Brisbane\, Queensland\, 4000\, Australia
ATTACH;FMTTYPE=image/jpeg:https://crossriverrailexperiencecentre.qld.gov.au/wp-content/uploads/2024/11/241028_ExpC_School_Holiday_Graphics_Isometric_600x400_v1.jpg
GEO:-27.470079673728;153.02656643906
X-APPLE-STRUCTURED-LOCATION;VALUE=URI;X-ADDRESS=Experience Centre 1/151 Elizabeth Street Brisbane Queensland 4000 Australia;X-APPLE-RADIUS=500;X-TITLE=1/151 Elizabeth Street:geo:153.02656643906,-27.470079673728
END:VEVENT
BEGIN:VEVENT
DTSTART;TZID=Australia/Brisbane:20241220T110000
DTEND;TZID=Australia/Brisbane:20241220T130000
DTSTAMP:20260424T012531
CREATED:20241114T224638Z
LAST-MODIFIED:20241114T224638Z
UID:10000714-1734692400-1734699600@crossriverrailexperiencecentre.qld.gov.au
SUMMARY:Crafty Christmas Creations
DESCRIPTION:With a sleigh load of craft supplies at your fingertips\, unleash your creativity to design a dazzling ornament\, a festive garland or a pinecone elf.  \nRecommended for ages 5+\, caregiver participation encouraged. \n\nMonday 16 December\, 11 am to 1 pm\nWednesday 18 December\, 11am to 1pm\nFriday 20 December\, 11am to 1pm\nSunday 22 December\, 11am to 1pm
URL:https://crossriverrailexperiencecentre.qld.gov.au/event/crafty-christmas-creations/2024-12-20/
LOCATION:Experience Centre\, 1/151 Elizabeth Street\, Brisbane\, Queensland\, 4000\, Australia
CATEGORIES:School Holidays,Weekend Programs
ATTACH;FMTTYPE=image/jpeg:https://crossriverrailexperiencecentre.qld.gov.au/wp-content/uploads/2024/11/241028_ExpC_School_Holiday_Graphics_Isometric_600x400_v13_Christmas_craft.jpg
GEO:-27.470079673728;153.02656643906
X-APPLE-STRUCTURED-LOCATION;VALUE=URI;X-ADDRESS=Experience Centre 1/151 Elizabeth Street Brisbane Queensland 4000 Australia;X-APPLE-RADIUS=500;X-TITLE=1/151 Elizabeth Street:geo:153.02656643906,-27.470079673728
END:VEVENT
BEGIN:VEVENT
DTSTART;TZID=Australia/Brisbane:20241221T110000
DTEND;TZID=Australia/Brisbane:20241221T130000
DTSTAMP:20260424T012531
CREATED:20241114T225524Z
LAST-MODIFIED:20241114T225524Z
UID:10000720-1734778800-1734786000@crossriverrailexperiencecentre.qld.gov.au
SUMMARY:Bush Christmas card making
DESCRIPTION:Celebrate the spirit of the Australian Christmas by using gum leaves to create your very own Bush Christmas Cards. \nRecommended for ages 5+\, caregiver participation encouraged. \n\nSaturday 21 December\, 11am to 1pm
URL:https://crossriverrailexperiencecentre.qld.gov.au/event/bush-christmas-card-making/
LOCATION:Experience Centre\, 1/151 Elizabeth Street\, Brisbane\, Queensland\, 4000\, Australia
CATEGORIES:School Holidays,Weekend Programs
ATTACH;FMTTYPE=image/jpeg:https://crossriverrailexperiencecentre.qld.gov.au/wp-content/uploads/2024/11/241028_ExpC_School_Holiday_Graphics_Isometric_600x400_v14.jpg
GEO:-27.470079673728;153.02656643906
X-APPLE-STRUCTURED-LOCATION;VALUE=URI;X-ADDRESS=Experience Centre 1/151 Elizabeth Street Brisbane Queensland 4000 Australia;X-APPLE-RADIUS=500;X-TITLE=1/151 Elizabeth Street:geo:153.02656643906,-27.470079673728
END:VEVENT
BEGIN:VEVENT
DTSTART;TZID=Australia/Brisbane:20241222T110000
DTEND;TZID=Australia/Brisbane:20241222T130000
DTSTAMP:20260424T012531
CREATED:20241114T224638Z
LAST-MODIFIED:20241114T224638Z
UID:10000715-1734865200-1734872400@crossriverrailexperiencecentre.qld.gov.au
SUMMARY:Crafty Christmas Creations
DESCRIPTION:With a sleigh load of craft supplies at your fingertips\, unleash your creativity to design a dazzling ornament\, a festive garland or a pinecone elf.  \nRecommended for ages 5+\, caregiver participation encouraged. \n\nMonday 16 December\, 11 am to 1 pm\nWednesday 18 December\, 11am to 1pm\nFriday 20 December\, 11am to 1pm\nSunday 22 December\, 11am to 1pm
URL:https://crossriverrailexperiencecentre.qld.gov.au/event/crafty-christmas-creations/2024-12-22/
LOCATION:Experience Centre\, 1/151 Elizabeth Street\, Brisbane\, Queensland\, 4000\, Australia
CATEGORIES:School Holidays,Weekend Programs
ATTACH;FMTTYPE=image/jpeg:https://crossriverrailexperiencecentre.qld.gov.au/wp-content/uploads/2024/11/241028_ExpC_School_Holiday_Graphics_Isometric_600x400_v13_Christmas_craft.jpg
GEO:-27.470079673728;153.02656643906
X-APPLE-STRUCTURED-LOCATION;VALUE=URI;X-ADDRESS=Experience Centre 1/151 Elizabeth Street Brisbane Queensland 4000 Australia;X-APPLE-RADIUS=500;X-TITLE=1/151 Elizabeth Street:geo:153.02656643906,-27.470079673728
END:VEVENT
END:VCALENDAR