BEGIN:VCALENDAR
VERSION:2.0
PRODID:-//Experience Centre - ECPv6.10.0//NONSGML v1.0//EN
CALSCALE:GREGORIAN
METHOD:PUBLISH
X-WR-CALNAME:Experience Centre
X-ORIGINAL-URL:https://crossriverrailexperiencecentre.qld.gov.au
X-WR-CALDESC:Events for Experience Centre
REFRESH-INTERVAL;VALUE=DURATION:PT1H
X-Robots-Tag:noindex
X-PUBLISHED-TTL:PT1H
BEGIN:VTIMEZONE
TZID:Australia/Brisbane
BEGIN:STANDARD
TZOFFSETFROM:+1000
TZOFFSETTO:+1000
TZNAME:AEST
DTSTART:20230101T000000
END:STANDARD
END:VTIMEZONE
BEGIN:VEVENT
DTSTART;TZID=Australia/Brisbane:20230627T110000
DTEND;TZID=Australia/Brisbane:20230627T130000
DTSTAMP:20260422T004214
CREATED:20230531T045618Z
LAST-MODIFIED:20230601T014518Z
UID:10000262-1687863600-1687870800@crossriverrailexperiencecentre.qld.gov.au
SUMMARY:Design your own train station with TinkerCAD
DESCRIPTION:The Cross River Rail train stations are coming to life. How would you design a train station? Go wild and imagine a crazy train station\, then design it in TinkerCAD. \nSuitable for beginner and experienced TinkerCAD users. \nRecommended for ages 5+\, adult supervision encouraged. \n\nTuesday 27 June\, 11 am to 1 pm\nTuesday 27 June\, 1 pm to 3 pm\n\nYou can book your tickets here.
URL:https://crossriverrailexperiencecentre.qld.gov.au/event/design-your-own-train-station-with-tinkercad/2023-06-27/1/
LOCATION:Experience Centre\, 1/151 Elizabeth Street\, Brisbane\, Queensland\, 4000\, Australia
CATEGORIES:School Holidays
ATTACH;FMTTYPE=image/png:https://crossriverrailexperiencecentre.qld.gov.au/wp-content/uploads/2023/05/Tinkercad-ipad.png
GEO:-27.470079673728;153.02656643906
X-APPLE-STRUCTURED-LOCATION;VALUE=URI;X-ADDRESS=Experience Centre 1/151 Elizabeth Street Brisbane Queensland 4000 Australia;X-APPLE-RADIUS=500;X-TITLE=1/151 Elizabeth Street:geo:153.02656643906,-27.470079673728
END:VEVENT
BEGIN:VEVENT
DTSTART;TZID=Australia/Brisbane:20230627T110000
DTEND;TZID=Australia/Brisbane:20230707T123000
DTSTAMP:20260422T004214
CREATED:20230502T004334Z
LAST-MODIFIED:20230531T055510Z
UID:10000259-1687863600-1688733000@crossriverrailexperiencecentre.qld.gov.au
SUMMARY:Catch us at the Gold Coast
DESCRIPTION:Discover what is in store for the Gold Coast with 3 new train stations being built. Explore hands-on STEM activities and learn about the Cross River Rail project with a VR experience. \nBookings are required for these sessions. Recommended for ages 8 to 12\, adult supervision required. \nBookings will open soon. \n\nUpper Coomera Library Tuesday 27 June 11:00 am to 12:30 pm\nHelensvale Library Tuesday 27 June 2:30 pm to 4:00 pm\nRunaway Bay Library Wednesday 28 June 11:00 am to 12:30 pm\nSouthport Library Wednesday 28 June 2:30 pm to 4:00 pm\nNerang Library Thursday 29 June 11:00 am to 12:30 pm\nRobina Library Thursday 29 June 2:30 pm to 4:00 pm\nBroadbeach Library Tuesday 4 July 11:00 am to 12:30 pm\nBurleigh Waters Library Tuesday 4 July 2:30 pm to 4:00 pm\nEleanora Library Wednesday 5 July 11:00 am to 12:30 pm
URL:https://crossriverrailexperiencecentre.qld.gov.au/event/gold-coast-library-pop-ups/
LOCATION:Experience Centre\, 1/151 Elizabeth Street\, Brisbane\, Queensland\, 4000\, Australia
CATEGORIES:Community Events,School Holidays
ATTACH;FMTTYPE=image/jpeg:https://crossriverrailexperiencecentre.qld.gov.au/wp-content/uploads/2023/05/CRR_lowres-08.jpg
GEO:-27.470079673728;153.02656643906
X-APPLE-STRUCTURED-LOCATION;VALUE=URI;X-ADDRESS=Experience Centre 1/151 Elizabeth Street Brisbane Queensland 4000 Australia;X-APPLE-RADIUS=500;X-TITLE=1/151 Elizabeth Street:geo:153.02656643906,-27.470079673728
END:VEVENT
BEGIN:VEVENT
DTSTART;TZID=Australia/Brisbane:20230627T130000
DTEND;TZID=Australia/Brisbane:20230627T150000
DTSTAMP:20260422T004214
CREATED:20230531T045618Z
LAST-MODIFIED:20230601T014518Z
UID:10000263-1687870800-1687878000@crossriverrailexperiencecentre.qld.gov.au
SUMMARY:Design your own train station with TinkerCAD
DESCRIPTION:The Cross River Rail train stations are coming to life. How would you design a train station? Go wild and imagine a crazy train station\, then design it in TinkerCAD. \nSuitable for beginner and experienced TinkerCAD users. \nRecommended for ages 5+\, adult supervision encouraged. \n\nTuesday 27 June\, 11 am to 1 pm\nTuesday 27 June\, 1 pm to 3 pm\n\nYou can book your tickets here.
URL:https://crossriverrailexperiencecentre.qld.gov.au/event/design-your-own-train-station-with-tinkercad/2023-06-27/2/
LOCATION:Experience Centre\, 1/151 Elizabeth Street\, Brisbane\, Queensland\, 4000\, Australia
CATEGORIES:School Holidays
ATTACH;FMTTYPE=image/png:https://crossriverrailexperiencecentre.qld.gov.au/wp-content/uploads/2023/05/Tinkercad-ipad.png
GEO:-27.470079673728;153.02656643906
X-APPLE-STRUCTURED-LOCATION;VALUE=URI;X-ADDRESS=Experience Centre 1/151 Elizabeth Street Brisbane Queensland 4000 Australia;X-APPLE-RADIUS=500;X-TITLE=1/151 Elizabeth Street:geo:153.02656643906,-27.470079673728
END:VEVENT
END:VCALENDAR