BEGIN:VCALENDAR
VERSION:2.0
PRODID:-//Experience Centre - ECPv6.10.0//NONSGML v1.0//EN
CALSCALE:GREGORIAN
METHOD:PUBLISH
X-WR-CALNAME:Experience Centre
X-ORIGINAL-URL:https://crossriverrailexperiencecentre.qld.gov.au
X-WR-CALDESC:Events for Experience Centre
REFRESH-INTERVAL;VALUE=DURATION:PT1H
X-Robots-Tag:noindex
X-PUBLISHED-TTL:PT1H
BEGIN:VTIMEZONE
TZID:Australia/Brisbane
BEGIN:STANDARD
TZOFFSETFROM:+1000
TZOFFSETTO:+1000
TZNAME:AEST
DTSTART:20210101T000000
END:STANDARD
END:VTIMEZONE
BEGIN:VEVENT
DTSTART;TZID=Australia/Brisbane:20211011T093000
DTEND;TZID=Australia/Brisbane:20211011T093000
DTSTAMP:20260426T040351
CREATED:20211008T030437Z
LAST-MODIFIED:20211008T063308Z
UID:10000286-1633944600-1633944600@crossriverrailexperiencecentre.qld.gov.au
SUMMARY:School Visits
DESCRIPTION:
URL:https://crossriverrailexperiencecentre.qld.gov.au/event/school-visits/2021-10-11/
LOCATION:Experience Centre\, 1/151 Elizabeth Street\, Brisbane\, Queensland\, 4000\, Australia
CATEGORIES:School Visits
GEO:-27.470079673728;153.02656643906
X-APPLE-STRUCTURED-LOCATION;VALUE=URI;X-ADDRESS=Experience Centre 1/151 Elizabeth Street Brisbane Queensland 4000 Australia;X-APPLE-RADIUS=500;X-TITLE=1/151 Elizabeth Street:geo:153.02656643906,-27.470079673728
END:VEVENT
BEGIN:VEVENT
DTSTART;TZID=Australia/Brisbane:20211013T093000
DTEND;TZID=Australia/Brisbane:20211013T093000
DTSTAMP:20260426T040351
CREATED:20211008T030437Z
LAST-MODIFIED:20211008T063308Z
UID:10000287-1634117400-1634117400@crossriverrailexperiencecentre.qld.gov.au
SUMMARY:School Visits
DESCRIPTION:
URL:https://crossriverrailexperiencecentre.qld.gov.au/event/school-visits/2021-10-13/
LOCATION:Experience Centre\, 1/151 Elizabeth Street\, Brisbane\, Queensland\, 4000\, Australia
CATEGORIES:School Visits
GEO:-27.470079673728;153.02656643906
X-APPLE-STRUCTURED-LOCATION;VALUE=URI;X-ADDRESS=Experience Centre 1/151 Elizabeth Street Brisbane Queensland 4000 Australia;X-APPLE-RADIUS=500;X-TITLE=1/151 Elizabeth Street:geo:153.02656643906,-27.470079673728
END:VEVENT
BEGIN:VEVENT
DTSTART;TZID=Australia/Brisbane:20211014T093000
DTEND;TZID=Australia/Brisbane:20211014T093000
DTSTAMP:20260426T040351
CREATED:20211008T030437Z
LAST-MODIFIED:20211008T063308Z
UID:10000288-1634203800-1634203800@crossriverrailexperiencecentre.qld.gov.au
SUMMARY:School Visits
DESCRIPTION:
URL:https://crossriverrailexperiencecentre.qld.gov.au/event/school-visits/2021-10-14/
LOCATION:Experience Centre\, 1/151 Elizabeth Street\, Brisbane\, Queensland\, 4000\, Australia
CATEGORIES:School Visits
GEO:-27.470079673728;153.02656643906
X-APPLE-STRUCTURED-LOCATION;VALUE=URI;X-ADDRESS=Experience Centre 1/151 Elizabeth Street Brisbane Queensland 4000 Australia;X-APPLE-RADIUS=500;X-TITLE=1/151 Elizabeth Street:geo:153.02656643906,-27.470079673728
END:VEVENT
BEGIN:VEVENT
DTSTART;TZID=Australia/Brisbane:20211015T093000
DTEND;TZID=Australia/Brisbane:20211015T093000
DTSTAMP:20260426T040351
CREATED:20211008T030437Z
LAST-MODIFIED:20211008T063308Z
UID:10000289-1634290200-1634290200@crossriverrailexperiencecentre.qld.gov.au
SUMMARY:School Visits
DESCRIPTION:
URL:https://crossriverrailexperiencecentre.qld.gov.au/event/school-visits/2021-10-15/
LOCATION:Experience Centre\, 1/151 Elizabeth Street\, Brisbane\, Queensland\, 4000\, Australia
CATEGORIES:School Visits
GEO:-27.470079673728;153.02656643906
X-APPLE-STRUCTURED-LOCATION;VALUE=URI;X-ADDRESS=Experience Centre 1/151 Elizabeth Street Brisbane Queensland 4000 Australia;X-APPLE-RADIUS=500;X-TITLE=1/151 Elizabeth Street:geo:153.02656643906,-27.470079673728
END:VEVENT
BEGIN:VEVENT
DTSTART;TZID=Australia/Brisbane:20211016T093000
DTEND;TZID=Australia/Brisbane:20211016T093000
DTSTAMP:20260426T040351
CREATED:20211008T030437Z
LAST-MODIFIED:20211008T063308Z
UID:10000290-1634376600-1634376600@crossriverrailexperiencecentre.qld.gov.au
SUMMARY:School Visits
DESCRIPTION:
URL:https://crossriverrailexperiencecentre.qld.gov.au/event/school-visits/2021-10-16/
LOCATION:Experience Centre\, 1/151 Elizabeth Street\, Brisbane\, Queensland\, 4000\, Australia
CATEGORIES:School Visits
GEO:-27.470079673728;153.02656643906
X-APPLE-STRUCTURED-LOCATION;VALUE=URI;X-ADDRESS=Experience Centre 1/151 Elizabeth Street Brisbane Queensland 4000 Australia;X-APPLE-RADIUS=500;X-TITLE=1/151 Elizabeth Street:geo:153.02656643906,-27.470079673728
END:VEVENT
BEGIN:VEVENT
DTSTART;TZID=Australia/Brisbane:20211016T113000
DTEND;TZID=Australia/Brisbane:20211016T133000
DTSTAMP:20260426T040351
CREATED:20211007T060400Z
LAST-MODIFIED:20211008T062918Z
UID:10000275-1634383800-1634391000@crossriverrailexperiencecentre.qld.gov.au
SUMMARY:Toys of the Past
DESCRIPTION:Have you ever thought about why we have toys\, or the materials they were made from in the past? How have toys changed over time? This workshop allows you to build your very own toy from the past from start to finish. The twist is\, you will have to think wisely and try to make your toys from reused materials! No booking required. Suitable for ages 4 to 14\, adult supervision encouraged.
URL:https://crossriverrailexperiencecentre.qld.gov.au/event/toys-of-the-past/
LOCATION:Experience Centre\, 1/151 Elizabeth Street\, Brisbane\, Queensland\, 4000\, Australia
CATEGORIES:Weekend Programs
ATTACH;FMTTYPE=image/jpeg:https://crossriverrailexperiencecentre.qld.gov.au/wp-content/uploads/2021/10/event-toys-of-the-past.jpg
GEO:-27.470079673728;153.02656643906
X-APPLE-STRUCTURED-LOCATION;VALUE=URI;X-ADDRESS=Experience Centre 1/151 Elizabeth Street Brisbane Queensland 4000 Australia;X-APPLE-RADIUS=500;X-TITLE=1/151 Elizabeth Street:geo:153.02656643906,-27.470079673728
END:VEVENT
BEGIN:VEVENT
DTSTART;TZID=Australia/Brisbane:20211017T093000
DTEND;TZID=Australia/Brisbane:20211017T093000
DTSTAMP:20260426T040351
CREATED:20211008T030437Z
LAST-MODIFIED:20211008T063308Z
UID:10000291-1634463000-1634463000@crossriverrailexperiencecentre.qld.gov.au
SUMMARY:School Visits
DESCRIPTION:
URL:https://crossriverrailexperiencecentre.qld.gov.au/event/school-visits/2021-10-17/
LOCATION:Experience Centre\, 1/151 Elizabeth Street\, Brisbane\, Queensland\, 4000\, Australia
CATEGORIES:School Visits
GEO:-27.470079673728;153.02656643906
X-APPLE-STRUCTURED-LOCATION;VALUE=URI;X-ADDRESS=Experience Centre 1/151 Elizabeth Street Brisbane Queensland 4000 Australia;X-APPLE-RADIUS=500;X-TITLE=1/151 Elizabeth Street:geo:153.02656643906,-27.470079673728
END:VEVENT
END:VCALENDAR