BEGIN:VCALENDAR
VERSION:2.0
PRODID:-//Experience Centre - ECPv6.10.0//NONSGML v1.0//EN
CALSCALE:GREGORIAN
METHOD:PUBLISH
X-ORIGINAL-URL:https://crossriverrailexperiencecentre.qld.gov.au
X-WR-CALDESC:Events for Experience Centre
REFRESH-INTERVAL;VALUE=DURATION:PT1H
X-Robots-Tag:noindex
X-PUBLISHED-TTL:PT1H
BEGIN:VTIMEZONE
TZID:Australia/Brisbane
BEGIN:STANDARD
TZOFFSETFROM:+1000
TZOFFSETTO:+1000
TZNAME:AEST
DTSTART:20240101T000000
END:STANDARD
END:VTIMEZONE
BEGIN:VEVENT
DTSTART;TZID=Australia/Brisbane:20241214T110000
DTEND;TZID=Australia/Brisbane:20241214T130000
DTSTAMP:20260426T011807
CREATED:20231108T234021Z
LAST-MODIFIED:20250722T223305Z
UID:10000702-1734174000-1734181200@crossriverrailexperiencecentre.qld.gov.au
SUMMARY:Magical Kaleidoscopes
DESCRIPTION:Create your own kaleidoscope using simple materials like cardboard tubes\, mirrors\, and colourful beads\, and be dazzled by the magic of patterns\, reflections and symmetry. \nThis is a drop-in session\, no bookings are required. Recommended for ages 5+\, adult supervision required.  \n\nSunday 3 August\, 11am to 1pm\nSunday 23 August\, 11am to 1pm
URL:https://crossriverrailexperiencecentre.qld.gov.au/event/magical-kaleidoscopes/2024-12-14/
LOCATION:Experience Centre\, 1/151 Elizabeth Street\, Brisbane\, Queensland\, 4000\, Australia
CATEGORIES:Weekend Programs
ATTACH;FMTTYPE=image/jpeg:https://crossriverrailexperiencecentre.qld.gov.au/wp-content/uploads/2023/11/240805_SchoolHolidayGraphics_600x400px_MagicalKaleidoscope.jpg
GEO:-27.470079673728;153.02656643906
X-APPLE-STRUCTURED-LOCATION;VALUE=URI;X-ADDRESS=Experience Centre 1/151 Elizabeth Street Brisbane Queensland 4000 Australia;X-APPLE-RADIUS=500;X-TITLE=1/151 Elizabeth Street:geo:153.02656643906,-27.470079673728
END:VEVENT
BEGIN:VEVENT
DTSTART;TZID=Australia/Brisbane:20241215T110000
DTEND;TZID=Australia/Brisbane:20241215T130000
DTSTAMP:20260426T011807
CREATED:20240624T231610Z
LAST-MODIFIED:20241210T003702Z
UID:10000707-1734260400-1734267600@crossriverrailexperiencecentre.qld.gov.au
SUMMARY:Lego Build & Create
DESCRIPTION:Build your own future development! Become an urban planner and design the new Albert Street precinct. From streets\, transport\, trees and buildings of different shapes and sizes\, how will you bring your city to life using only Lego. \nRecommended for ages 5+\, caregiver participation encouraged. \nThis is a drop in session. \n\nSaturday 30 November\, 11am to 1pm\nSunday 15 December\, 11am to 1pm\nWednesday 8 January\, 11am to 1pm\nMonday 13 January\, 11am to 1pm\nFriday 17 January\, 11am to 1pm\nWednesday 22 January\, 11am to 1pm
URL:https://crossriverrailexperiencecentre.qld.gov.au/event/lego-challenge-2-2-2/2024-12-15/
LOCATION:Experience Centre\, 1/151 Elizabeth Street\, Brisbane\, Queensland\, 4000\, Australia
CATEGORIES:School Holidays,Weekend Programs
ATTACH;FMTTYPE=image/png:https://crossriverrailexperiencecentre.qld.gov.au/wp-content/uploads/2024/05/230510_EC_School_Holiday_Graphics_600x400-iso_lego.png
GEO:-27.470079673728;153.02656643906
X-APPLE-STRUCTURED-LOCATION;VALUE=URI;X-ADDRESS=Experience Centre 1/151 Elizabeth Street Brisbane Queensland 4000 Australia;X-APPLE-RADIUS=500;X-TITLE=1/151 Elizabeth Street:geo:153.02656643906,-27.470079673728
END:VEVENT
END:VCALENDAR