BEGIN:VCALENDAR
VERSION:2.0
PRODID:-//Experience Centre - ECPv6.10.0//NONSGML v1.0//EN
CALSCALE:GREGORIAN
METHOD:PUBLISH
X-ORIGINAL-URL:https://crossriverrailexperiencecentre.qld.gov.au
X-WR-CALDESC:Events for Experience Centre
REFRESH-INTERVAL;VALUE=DURATION:PT1H
X-Robots-Tag:noindex
X-PUBLISHED-TTL:PT1H
BEGIN:VTIMEZONE
TZID:Australia/Brisbane
BEGIN:STANDARD
TZOFFSETFROM:+1000
TZOFFSETTO:+1000
TZNAME:AEST
DTSTART:20220101T000000
END:STANDARD
END:VTIMEZONE
BEGIN:VEVENT
DTSTART;TZID=Australia/Brisbane:20220721T153000
DTEND;TZID=Australia/Brisbane:20220721T163000
DTSTAMP:20260422T034525
CREATED:20220524T232219Z
LAST-MODIFIED:20220621T031520Z
UID:10000478-1658417400-1658421000@crossriverrailexperiencecentre.qld.gov.au
SUMMARY:Cross River Rail Innovation Challenge
DESCRIPTION:The Cross River Rail Innovation Challenge will provide students and teachers with the opportunity to learn more about programming\, robotics and automation while giving teachers the perfect opportunity to showcase a real-world example of where engineers and scientists utilise their foundational STEM and innovation skills on a meaningful and impactful project. \nTeachers will be invited to participate in a kick-off Professional Development session to introduce the program as well as being provided 10 weeks of content leading up to the final event. This will give teachers the tools and links to show how integrating programming\, robotics and automation into the current Australian Curriculum can be managed.  \nFor students\, the program will provide participants with an inspiring project and place to study. The workshop challenge will enable students to connect their learning to real-life examples of how sensors\, automation\, programming\, and robotics are being used by the largest machines tunnelling right below them. \nThrough the program\, schools register their interest or will be invited to participate in a series of challenges using the Micromelon Robot Simulator\, culminating in a final event at the Cross River Rail Experience Centre where each school group demonstrates their problem-solving skills.  \nThe dates of the program are below: \n\nSession 1\, 21 July: Onboarding Professional Development Session at the Experience Centre\nSession 2\, 25 July: Weekly content delivery commencement\nSession 3\, 22 August: Virtual Q&A session #1 \nSession 4\, 10 October: Virtual Q&A session #2\nSession 5\, 31 October: Solution Demonstration Day at the Experience Centre\n\nClick here to register to attend the program.
URL:https://crossriverrailexperiencecentre.qld.gov.au/event/crrinnovationchallenge/
LOCATION:Experience Centre\, 1/151 Elizabeth Street\, Brisbane\, Queensland\, 4000\, Australia
CATEGORIES:Community Events
ATTACH;FMTTYPE=image/jpeg:https://crossriverrailexperiencecentre.qld.gov.au/wp-content/uploads/2022/05/190912-Experience-Centre-Hero-Centre_087_Revised.jpg
GEO:-27.470079673728;153.02656643906
X-APPLE-STRUCTURED-LOCATION;VALUE=URI;X-ADDRESS=Experience Centre 1/151 Elizabeth Street Brisbane Queensland 4000 Australia;X-APPLE-RADIUS=500;X-TITLE=1/151 Elizabeth Street:geo:153.02656643906,-27.470079673728
END:VEVENT
END:VCALENDAR