BEGIN:VCALENDAR
VERSION:2.0
PRODID:-//Experience Centre - ECPv6.10.0//NONSGML v1.0//EN
CALSCALE:GREGORIAN
METHOD:PUBLISH
X-WR-CALNAME:Experience Centre
X-ORIGINAL-URL:https://crossriverrailexperiencecentre.qld.gov.au
X-WR-CALDESC:Events for Experience Centre
REFRESH-INTERVAL;VALUE=DURATION:PT1H
X-Robots-Tag:noindex
X-PUBLISHED-TTL:PT1H
BEGIN:VTIMEZONE
TZID:Australia/Brisbane
BEGIN:STANDARD
TZOFFSETFROM:+1000
TZOFFSETTO:+1000
TZNAME:AEST
DTSTART:20250101T000000
END:STANDARD
END:VTIMEZONE
BEGIN:VEVENT
DTSTART;TZID=Australia/Brisbane:20250107T110000
DTEND;TZID=Australia/Brisbane:20250107T120000
DTSTAMP:20260421T231438
CREATED:20230531T054651Z
LAST-MODIFIED:20250618T225138Z
UID:10000742-1736247600-1736251200@crossriverrailexperiencecentre.qld.gov.au
SUMMARY:Make a model train station
DESCRIPTION:Queensland has its own special style of architecture and so do the new Cross River Rail train stations. You can be an architect and design a train station then build a model of it.    \nRecommended for ages 5+\, adult supervision encouraged. \nBooking required via the links below: \n\nThursday 3 July\, 11am – 12pm\nThursday 3 July\, 12:30pm – 1:30pm\nFriday 11 July\, 11am – 12pm\nFriday 11  July\, 12:30pm – 1:30pm\n\nYou can book your tickets here.
URL:https://crossriverrailexperiencecentre.qld.gov.au/event/2393/2025-01-07/1/
LOCATION:Experience Centre\, 1/151 Elizabeth Street\, Brisbane\, Queensland\, 4000\, Australia
CATEGORIES:Weekend Programs
ATTACH;FMTTYPE=image/webp:https://crossriverrailexperiencecentre.qld.gov.au/wp-content/uploads/2023/05/241028_ExpC_School_Holiday_Graphics_Isometric_600x400_v12.webp
GEO:-27.470079673728;153.02656643906
X-APPLE-STRUCTURED-LOCATION;VALUE=URI;X-ADDRESS=Experience Centre 1/151 Elizabeth Street Brisbane Queensland 4000 Australia;X-APPLE-RADIUS=500;X-TITLE=1/151 Elizabeth Street:geo:153.02656643906,-27.470079673728
END:VEVENT
BEGIN:VEVENT
DTSTART;TZID=Australia/Brisbane:20250107T123000
DTEND;TZID=Australia/Brisbane:20250107T133000
DTSTAMP:20260421T231438
CREATED:20230531T054651Z
LAST-MODIFIED:20250618T225138Z
UID:10000743-1736253000-1736256600@crossriverrailexperiencecentre.qld.gov.au
SUMMARY:Make a model train station
DESCRIPTION:Queensland has its own special style of architecture and so do the new Cross River Rail train stations. You can be an architect and design a train station then build a model of it.    \nRecommended for ages 5+\, adult supervision encouraged. \nBooking required via the links below: \n\nThursday 3 July\, 11am – 12pm\nThursday 3 July\, 12:30pm – 1:30pm\nFriday 11 July\, 11am – 12pm\nFriday 11  July\, 12:30pm – 1:30pm\n\nYou can book your tickets here.
URL:https://crossriverrailexperiencecentre.qld.gov.au/event/2393/2025-01-07/2/
LOCATION:Experience Centre\, 1/151 Elizabeth Street\, Brisbane\, Queensland\, 4000\, Australia
CATEGORIES:Weekend Programs
ATTACH;FMTTYPE=image/webp:https://crossriverrailexperiencecentre.qld.gov.au/wp-content/uploads/2023/05/241028_ExpC_School_Holiday_Graphics_Isometric_600x400_v12.webp
GEO:-27.470079673728;153.02656643906
X-APPLE-STRUCTURED-LOCATION;VALUE=URI;X-ADDRESS=Experience Centre 1/151 Elizabeth Street Brisbane Queensland 4000 Australia;X-APPLE-RADIUS=500;X-TITLE=1/151 Elizabeth Street:geo:153.02656643906,-27.470079673728
END:VEVENT
END:VCALENDAR