BEGIN:VCALENDAR
VERSION:2.0
PRODID:-//Experience Centre - ECPv6.10.0//NONSGML v1.0//EN
CALSCALE:GREGORIAN
METHOD:PUBLISH
X-ORIGINAL-URL:https://crossriverrailexperiencecentre.qld.gov.au
X-WR-CALDESC:Events for Experience Centre
REFRESH-INTERVAL;VALUE=DURATION:PT1H
X-Robots-Tag:noindex
X-PUBLISHED-TTL:PT1H
BEGIN:VTIMEZONE
TZID:Australia/Brisbane
BEGIN:STANDARD
TZOFFSETFROM:+1000
TZOFFSETTO:+1000
TZNAME:AEST
DTSTART:20220101T000000
END:STANDARD
END:VTIMEZONE
BEGIN:VEVENT
DTSTART;TZID=Australia/Brisbane:20220118T100000
DTEND;TZID=Australia/Brisbane:20220118T120000
DTSTAMP:20260426T052514
CREATED:20211202T015108Z
LAST-MODIFIED:20211207T060011Z
UID:10000423-1642500000-1642507200@crossriverrailexperiencecentre.qld.gov.au
SUMMARY:Design a 3D Olympic Village Workshop
DESCRIPTION:Cross River Rail has teamed up with STEM Punks to bring an immersive innovation experience. In this workshop\, you will be designing Brisbane’s future Olympic Village and learn about the challenges planners face. You will learn new skills in 3D Design and Coding to create your own Olympic Village\, using Augmented Reality technology and be able to explore your new creations.  \nRecommended for ages 8+ \nUse the links below to register for the event: \n\n18 January – Morning\n18 January – Afternoon
URL:https://crossriverrailexperiencecentre.qld.gov.au/event/design-a-3d-olympic-village-workshop/2022-01-18/1/
LOCATION:Experience Centre\, 1/151 Elizabeth Street\, Brisbane\, Queensland\, 4000\, Australia
CATEGORIES:School Holidays
ATTACH;FMTTYPE=image/png:https://crossriverrailexperiencecentre.qld.gov.au/wp-content/uploads/2021/12/211129-21-X1002-ExpC-School-Holiday-Activity-Graphics_v29.png
GEO:-27.470079673728;153.02656643906
X-APPLE-STRUCTURED-LOCATION;VALUE=URI;X-ADDRESS=Experience Centre 1/151 Elizabeth Street Brisbane Queensland 4000 Australia;X-APPLE-RADIUS=500;X-TITLE=1/151 Elizabeth Street:geo:153.02656643906,-27.470079673728
END:VEVENT
BEGIN:VEVENT
DTSTART;TZID=Australia/Brisbane:20220118T130000
DTEND;TZID=Australia/Brisbane:20220118T150000
DTSTAMP:20260426T052514
CREATED:20211202T015108Z
LAST-MODIFIED:20211207T060011Z
UID:10000424-1642510800-1642518000@crossriverrailexperiencecentre.qld.gov.au
SUMMARY:Design a 3D Olympic Village Workshop
DESCRIPTION:Cross River Rail has teamed up with STEM Punks to bring an immersive innovation experience. In this workshop\, you will be designing Brisbane’s future Olympic Village and learn about the challenges planners face. You will learn new skills in 3D Design and Coding to create your own Olympic Village\, using Augmented Reality technology and be able to explore your new creations.  \nRecommended for ages 8+ \nUse the links below to register for the event: \n\n18 January – Morning\n18 January – Afternoon
URL:https://crossriverrailexperiencecentre.qld.gov.au/event/design-a-3d-olympic-village-workshop/2022-01-18/2/
LOCATION:Experience Centre\, 1/151 Elizabeth Street\, Brisbane\, Queensland\, 4000\, Australia
CATEGORIES:School Holidays
ATTACH;FMTTYPE=image/png:https://crossriverrailexperiencecentre.qld.gov.au/wp-content/uploads/2021/12/211129-21-X1002-ExpC-School-Holiday-Activity-Graphics_v29.png
GEO:-27.470079673728;153.02656643906
X-APPLE-STRUCTURED-LOCATION;VALUE=URI;X-ADDRESS=Experience Centre 1/151 Elizabeth Street Brisbane Queensland 4000 Australia;X-APPLE-RADIUS=500;X-TITLE=1/151 Elizabeth Street:geo:153.02656643906,-27.470079673728
END:VEVENT
END:VCALENDAR